BEGIN:VCALENDAR
VERSION:2.0
PRODID:-//RIGHTHERE//CALENDARIZE IT V3.2//EN
BEGIN:VTIMEZONE
TZID:Europe/Rome
BEGIN:STANDARD
DTSTART:20251026T010000
TZOFFSETFROM:+0200
TZOFFSETTO:+0100
TZNAME:CET
END:STANDARD
BEGIN:DAYLIGHT
DTSTART:20260329T010000
TZOFFSETFROM:+0100
TZOFFSETTO:+0200
TZNAME:CEST
END:DAYLIGHT
BEGIN:STANDARD
DTSTART:20261025T010000
TZOFFSETFROM:+0200
TZOFFSETTO:+0100
TZNAME:CET
END:STANDARD
END:VTIMEZONE
BEGIN:VEVENT
UID:557-events@puglia.federmanager.it
DTSTART;TZID=Europe/Rome:20231122T160000
DTEND;TZID=Europe/Rome:20231122T190000
DTSTAMP;TZID=Europe/Rome:20231108T175015
SUMMARY:Circular Economy Manager
URL:https://puglia.federmanager.it/events/circular-economy-manager/
ORGANIZER;CN=Fedemanager Puglia:
LOCATION:Sala Congressi Hotel Majesty in Via G. Gentile 97/b 70126 Bari
END:VEVENT
END:VCALENDAR